BEGIN:VCALENDAR
VERSION:2.0
PRODID:-//BAM Bowfishing - ECPv5.1.4//NONSGML v1.0//EN
CALSCALE:GREGORIAN
METHOD:PUBLISH
X-WR-CALNAME:BAM Bowfishing
X-ORIGINAL-URL:https://www.bowfishbam.com
X-WR-CALDESC:Events for BAM Bowfishing
BEGIN:VTIMEZONE
TZID:America/New_York
BEGIN:DAYLIGHT
TZOFFSETFROM:-0500
TZOFFSETTO:-0400
TZNAME:EDT
DTSTART:20260308T070000
END:DAYLIGHT
BEGIN:STANDARD
TZOFFSETFROM:-0400
TZOFFSETTO:-0500
TZNAME:EST
DTSTART:20261101T060000
END:STANDARD
END:VTIMEZONE
BEGIN:VEVENT
DTSTART;TZID=America/New_York:20260418T200000
DTEND;TZID=America/New_York:20260419T060000
DTSTAMP:20260421T154945
CREATED:20260317T203615Z
LAST-MODIFIED:20260323T202735Z
UID:2077-1776542400-1776578400@www.bowfishbam.com
SUMMARY:April 18th/19th - Lk Erie/Detroit Ri./Lk St Clair Total Weightt
DESCRIPTION:Time: 8pm- 6am\, Registration begins on-site at 7pm \nLocation: Send-off and weigh-in at Pointe Mouillee State Game Area Headquarters. Recreation passports are required for all vehicles. \n37205 Pointe Mouille Rd\, Brownstown Charter Twp\, MI 48173 \n \nBoundaries: American waters from the mouth of Lk. St. Clair River to the Ohio Line. Shooting is permitted on any of the tributaries and bays from the shoreline up to 1 mile inland. Public boat ramps only. The game area is off-limits\, and a red zone map is shown here: \n \nHost: Tom Miller (517) 231-7631 and Gary Reid \n\n\n\n\n1. All boats must be present at both registration and weigh-in. No exceptions. Being late to weigh in will result in losing 1 fish per minute starting with the biggest fish\n2. The entire west side of the bay will be closed to bowfishing starting 8pm Friday for all participants. Scouting is allowed\, but no bows\, gaffs\, or spears in the boat after 8pm Friday. If you see someone out shooting\, make a mental note and take a picture if possible of the boat\, truck\, and trailer and let a board member or host know.\n3. You must launch at a public or public pay launch. No private launches can be used even if it’s attached to public water. If you have multiple vehicles they must all be at the same launch. There will be no parking a chase vehicle somewhere else.\n4. Must have your big 20 sorted\, and ready for weigh in before you get to the scales. No sorting allowed at the scales.\n5. There will also be prizes for big dog\, big gar\, and big mystery fish included with your entry. Mystery fish specie will be determined at registration.\n\nOpen Class Total Weight FormatTeams consist of a minimum of 2 shooters and a maximum of 4 per boat$30 per shooter registration fee for participants over the age of 16 per class. Optional $5 big fish side-pot Optional $5 big 10 side-potAll participants must be a paid member of BAM ($30 yearly registration fee) \nSportsman Class Total Weight FormatDesigned for beginner tournament shooters (board approval/discretion)\n$15 per shooter registration feeOptional $5 big fish side-pot Optional $5 big 10 side-potAll participants must be a paid member of BAM ($30 yearly registration fee)\n\n\n\n\n\n\n1. All boats must be present at both registration and weigh-in. No exceptions. Being late to weigh in will result in losing 1 fish per minute starting with the biggest fish \n\n\n\n\n\n\n2. All tournament waters will be closed to bowfishing starting 8pm Friday for all participants. Scouting is allowed\, but no bows\, gaffs\, or spears in the boat after 8pm Friday. If you see someone out shooting\, make a mental note and take a picture if possible of the boat\, truck\, and trailer and let a board member or host know.\n3. You must launch at a public or public pay launch. No private launches can be used even if it’s attached to public water. If you have multiple vehicles they must all be at the same launch. There will be no parking a chase vehicle somewhere else.\n4. Must have your big 10 sorted\, and ready for weigh in before you get to the scales. No sorting allowed at the scales.\n5. There will also be prizes for big dog\, big gar\, and big mystery fish included with your entry. Mystery fish specie will be determined at registration.\n\n\nBased on participation\, payouts will be up to top 5.\nReminder: you represent the small sport of bowfishing\, please be kind and courteous at the ramp and on the water. \n\n\n\nAll Bam rules apply and can be viewed on the website at Rules & Regulations – BAM Bowfishing (bowfishbam.com)\n\n\n\nWe highly encourage anyone who hasn’t read the rules\, or if it’s been a while since you have looked at them\, go to the Rules page and look them over before Friday.\n\n\n\n\n\n\n
URL:https://www.bowfishbam.com/event/april-18th-19th-lake-erie-detroit-ri-total-weight/
LOCATION:Lake Erie/Detroit Ri.\, 37205 Mouillee Rd\, Brownstown Charter Twp\, MI\, 48173\, United States
CATEGORIES:CurrentSeason
ATTACH;FMTTYPE=image/jpeg:https://www.bowfishbam.com/wp-content/uploads/2026/03/508095954_4082259578759728_5925188935747992128_n.jpg
END:VEVENT
END:VCALENDAR