BEGIN:VCALENDAR
VERSION:2.0
PRODID:-//BAM Bowfishing - ECPv5.1.4//NONSGML v1.0//EN
CALSCALE:GREGORIAN
METHOD:PUBLISH
X-WR-CALNAME:BAM Bowfishing
X-ORIGINAL-URL:https://www.bowfishbam.com
X-WR-CALDESC:Events for BAM Bowfishing
BEGIN:VTIMEZONE
TZID:America/New_York
BEGIN:DAYLIGHT
TZOFFSETFROM:-0500
TZOFFSETTO:-0400
TZNAME:EDT
DTSTART:20250309T070000
END:DAYLIGHT
BEGIN:STANDARD
TZOFFSETFROM:-0400
TZOFFSETTO:-0500
TZNAME:EST
DTSTART:20251102T060000
END:STANDARD
END:VTIMEZONE
BEGIN:VEVENT
DTSTART;TZID=America/New_York:20250405T200000
DTEND;TZID=America/New_York:20250406T060000
DTSTAMP:20260421T194153
CREATED:20250401T201010Z
LAST-MODIFIED:20250405T143446Z
UID:2018-1743883200-1743919200@www.bowfishbam.com
SUMMARY:April 5th/6th- West Side Total Weight
DESCRIPTION:\n\n\nTime: 8pm- 6am\, Registration begins on-site at 7pm \nLocation: Fishermans Landing\, Muskegon\n501 E Western Ave\, Muskegon\, MI 49442\n \nBoundaries: \n\n\nNorth of the Kalamazoo River\, South of the Manistee River\, West of 131.White Lake to Business 31**Hardy pond dam to 131Croton Pond dam to damMuskegon Lake to M120Mona Lake to 31Grand River/ Spring lake to 131Lake Macatawa and River to 196Lake Allegan to 131Lake Michigan from Lake Macatawa inlet to White lake inlet.**All inland (non trout designated) lakes and backwaters within the boundaries.\nDue to the confusion of boundaries this week\, feel free to contact Tom Miller (517-231-7631).\nHe will also be set up at registration for any questions.\n\n\n\n \nHost: Shane Wilcox (616) 894-1781 \n\n\nTotal Weight FormatMinimum teams of 2 Maximum teams of 4$30 per shooter registration feeOptional $5 big fish side-potOptional $5 big dog side-potAll participants must be a paid member of BAM ($30 yearly registration fee) \nHobby ClassDesigned for beginner tournament shooters (board approval/discretion)\nBig 10 Format$15 per shooter registration feeOptional $5 big fish side-potOptional $5 big dog side-potAll participants must be a paid member of BAM ($30 yearly registration fee)\n\n\nBased on participation\, payouts will be up to top 5.\n\n\n\nAll Bam rules apply and can be viewed on the website at Rules & Regulations – BAM Bowfishing (bowfishbam.com)\n\n\n
URL:https://www.bowfishbam.com/event/west-side-total-weight/
LOCATION:Fishermans Landing (Muskegon)\, 501 E. Western Ave\, Muskegon\, MI\, 49442\, United States
ATTACH;FMTTYPE=image/jpeg:https://www.bowfishbam.com/wp-content/uploads/2025/04/486173112_1065952345571757_3724041930553778132_n.jpg
END:VEVENT
END:VCALENDAR