BEGIN:VCALENDAR
VERSION:2.0
PRODID:-//BAM Bowfishing - ECPv5.1.4//NONSGML v1.0//EN
CALSCALE:GREGORIAN
METHOD:PUBLISH
X-WR-CALNAME:BAM Bowfishing
X-ORIGINAL-URL:https://www.bowfishbam.com
X-WR-CALDESC:Events for BAM Bowfishing
BEGIN:VTIMEZONE
TZID:America/New_York
BEGIN:DAYLIGHT
TZOFFSETFROM:-0500
TZOFFSETTO:-0400
TZNAME:EDT
DTSTART:20230312T070000
END:DAYLIGHT
BEGIN:STANDARD
TZOFFSETFROM:-0400
TZOFFSETTO:-0500
TZNAME:EST
DTSTART:20231105T060000
END:STANDARD
END:VTIMEZONE
BEGIN:VEVENT
DTSTART;TZID=America/New_York:20230527T090000
DTEND;TZID=America/New_York:20230527T150000
DTSTAMP:20260421T200038
CREATED:20230402T131318Z
LAST-MODIFIED:20230402T131318Z
UID:1799-1685178000-1685199600@www.bowfishbam.com
SUMMARY:May 27th Youth Bowfishing Championship
DESCRIPTION:Location: *Bay City State Park on Saginaw Bay \n3582 State Park Dr\, Bay City\, MI 48706 \n*A MI Recreation Passport is required for all vehicles \nTime: Saturday\, May 27 Registration: 8:00am-8:45am Meeting at Bay City State Park \nTournament hours: 9:00am – 3:00pm \nBoundaries: Saginaw Bay and its tributaries. Tournament boundaries will include the west shoreline of Saginaw Bay from the mouth of the Au Gres River to the mouth of the Saginaw River in Bay City \nHost: Brian Gilson (616)240-1196 \nCost: 100% FREE!!! \nSee the youth event page for all rules and details: Youth Events – BAM Bowfishing (bowfishbam.com) \n \n  \n  \n
URL:https://www.bowfishbam.com/event/may-27th-youth-bowfishing-championship/
LOCATION:Youth State Shoot\, Bay City State Park on Saginaw Bay\, MI\, United States
CATEGORIES:CurrentSeason
ATTACH;FMTTYPE=image/jpeg:https://www.bowfishbam.com/wp-content/uploads/2023/04/284272090_5285656031501337_46161451635544364_n.jpg
END:VEVENT
END:VCALENDAR