BEGIN:VCALENDAR
VERSION:2.0
PRODID:-//BAM Bowfishing - ECPv5.1.4//NONSGML v1.0//EN
CALSCALE:GREGORIAN
METHOD:PUBLISH
X-WR-CALNAME:BAM Bowfishing
X-ORIGINAL-URL:https://www.bowfishbam.com
X-WR-CALDESC:Events for BAM Bowfishing
BEGIN:VTIMEZONE
TZID:America/New_York
BEGIN:DAYLIGHT
TZOFFSETFROM:-0500
TZOFFSETTO:-0400
TZNAME:EDT
DTSTART:20240310T070000
END:DAYLIGHT
BEGIN:STANDARD
TZOFFSETFROM:-0400
TZOFFSETTO:-0500
TZNAME:EST
DTSTART:20241103T060000
END:STANDARD
END:VTIMEZONE
BEGIN:VEVENT
DTSTART;TZID=America/New_York:20240525T090000
DTEND;TZID=America/New_York:20240525T150000
DTSTAMP:20260421T182143
CREATED:20240401T213807Z
LAST-MODIFIED:20240401T224605Z
UID:1956-1716627600-1716649200@www.bowfishbam.com
SUMMARY:May 25th Youth Bowfishing Championship
DESCRIPTION:Location: *Bay City State Park on Saginaw Bay \n3582 State Park Dr\, Bay City\, MI 48706 \n*A MI Recreation Passport is required for all vehicles \nTime: Saturday\, May 25 Registration: 8:00am-8:45am Meeting at Bay City State Park \nTournament hours: 9:00am – 3:00pm \nBoundaries: Saginaw Bay and its tributaries. Tournament boundaries will include the west shoreline of Saginaw Bay from the mouth of the Au Gres River to the mouth of the Saginaw River in Bay City \nHost: Brian Gilson (616)240-1196 \nCost: 100% FREE!!! \nSee the youth event page for all rules and details: Youth Events – BAM Bowfishing (bowfishbam.com) \n \n  \n  \n
URL:https://www.bowfishbam.com/event/may-25th-youth-bowfishing-championship/
LOCATION:Youth State Shoot\, Bay City State Park on Saginaw Bay\, MI\, United States
CATEGORIES:CurrentSeason
ATTACH;FMTTYPE=image/jpeg:https://www.bowfishbam.com/wp-content/uploads/2024/04/350015986_948835479687206_2260542733420436122_n.jpg
END:VEVENT
END:VCALENDAR