BEGIN:VCALENDAR
VERSION:2.0
PRODID:-//BAM Bowfishing - ECPv5.1.4//NONSGML v1.0//EN
CALSCALE:GREGORIAN
METHOD:PUBLISH
X-WR-CALNAME:BAM Bowfishing
X-ORIGINAL-URL:https://www.bowfishbam.com
X-WR-CALDESC:Events for BAM Bowfishing
BEGIN:VTIMEZONE
TZID:America/New_York
BEGIN:DAYLIGHT
TZOFFSETFROM:-0500
TZOFFSETTO:-0400
TZNAME:EDT
DTSTART:20250309T070000
END:DAYLIGHT
BEGIN:STANDARD
TZOFFSETFROM:-0400
TZOFFSETTO:-0500
TZNAME:EST
DTSTART:20251102T060000
END:STANDARD
END:VTIMEZONE
BEGIN:VEVENT
DTSTART;TZID=America/New_York:20250524T090000
DTEND;TZID=America/New_York:20250524T150000
DTSTAMP:20260421T183013
CREATED:20250512T182318Z
LAST-MODIFIED:20250512T183952Z
UID:2057-1748077200-1748098800@www.bowfishbam.com
SUMMARY:May 24th Youth Bowfishing Championship
DESCRIPTION:Location: *Bay City State Park on Saginaw Bay \n3582 State Park Dr\, Bay City\, MI 48706 \n*A MI Recreation Passport is required for all vehicles \nTime: Saturday\, May 24 Registration: 8:00am-8:45am Meeting at Bay City State Park \nTournament hours: 9:00am – 3:00pm \nBoundaries: Saginaw Bay and its tributaries. Tournament boundaries will include the west shoreline of Saginaw Bay from the mouth of the Au Gres River to the mouth of the Saginaw River in Bay City \nHost: Brian Gilson (616)240-1196 \nCost: 100% FREE!!! \nSee the youth event page for all rules and details: Youth Events – BAM Bowfishing (bowfishbam.com) \n \n  \n  \n
URL:https://www.bowfishbam.com/event/may-24th-youth-bowfishing-championship-2/
LOCATION:Youth State Shoot\, Bay City State Park on Saginaw Bay\, MI\, United States
CATEGORIES:CurrentSeason
ATTACH;FMTTYPE=image/jpeg:https://www.bowfishbam.com/wp-content/uploads/2025/05/2025-05-12_14-39-06.jpg
END:VEVENT
END:VCALENDAR