BEGIN:VCALENDAR
VERSION:2.0
PRODID:-//BAM Bowfishing - ECPv5.1.4//NONSGML v1.0//EN
CALSCALE:GREGORIAN
METHOD:PUBLISH
X-WR-CALNAME:BAM Bowfishing
X-ORIGINAL-URL:https://www.bowfishbam.com
X-WR-CALDESC:Events for BAM Bowfishing
BEGIN:VTIMEZONE
TZID:UTC
BEGIN:STANDARD
TZOFFSETFROM:+0000
TZOFFSETTO:+0000
TZNAME:UTC
DTSTART:20200101T000000
END:STANDARD
END:VTIMEZONE
BEGIN:VEVENT
DTSTART;TZID=UTC:20200920T200000
DTEND;TZID=UTC:20200921T070000
DTSTAMP:20260421T210247
CREATED:20200722T043639Z
LAST-MODIFIED:20200722T054742Z
UID:1433-1600632000-1600671600@www.bowfishbam.com
SUMMARY:Grand River
DESCRIPTION:8pm-7am\nSend-off and weigh-in at Bruce’s Bayou cypress street launch\nBoundaries: Lake MI pier head to Lansing City Limits.\nConnecting waters are legal\, but the boat must be launched on the Grand river or one of its bayous.\nHost: Rob Rouwhorst (231)220-3620 \n﻿ \n
URL:https://www.bowfishbam.com/event/may-16th-grand-river/
LOCATION:Bruces Bayou\, 13556 Cypress Street\, Spring Lake\, MI\, 49456\, United States
CATEGORIES:CurrentSeason
ATTACH;FMTTYPE=image/jpeg:https://www.bowfishbam.com/wp-content/uploads/2020/07/2017-youth-shoot_085-scaled.jpg
END:VEVENT
END:VCALENDAR