BEGIN:VCALENDAR
VERSION:2.0
PRODID:-//BAM Bowfishing - ECPv5.1.4//NONSGML v1.0//EN
CALSCALE:GREGORIAN
METHOD:PUBLISH
X-WR-CALNAME:BAM Bowfishing
X-ORIGINAL-URL:https://www.bowfishbam.com
X-WR-CALDESC:Events for BAM Bowfishing
BEGIN:VTIMEZONE
TZID:America/New_York
BEGIN:DAYLIGHT
TZOFFSETFROM:-0500
TZOFFSETTO:-0400
TZNAME:EDT
DTSTART:20250309T070000
END:DAYLIGHT
BEGIN:STANDARD
TZOFFSETFROM:-0400
TZOFFSETTO:-0500
TZNAME:EST
DTSTART:20251102T060000
END:STANDARD
END:VTIMEZONE
BEGIN:VEVENT
DTSTART;TZID=America/New_York:20250614T200000
DTEND;TZID=America/New_York:20250615T060000
DTSTAMP:20260421T193020
CREATED:20250602T125645Z
LAST-MODIFIED:20250602T130959Z
UID:2067-1749931200-1749967200@www.bowfishbam.com
SUMMARY:June 14th/15th- Grand Traverse Bay
DESCRIPTION:Time: 8pm- 6am\, Registration begins on-site at 7pm. \nLocation: Send-off and weigh-in at 5851 Voice Rd\, Kingsley\, MI 49649\n \nBoundaries: See redzone map below\, boundaries are highlighted in purple \nHost: Anthony Miller (616) 280-3100 \n\n\nCost:  \n*Teams must choose to shoot Numbers or Big 20* \nAn annual BAM membership is also required for this event ($30 yearly registration fee) Numbers and Big 20: $30.00 per person\, a maximum of 4 adult members per boat for Numbers class. Side Pot: $5 per person big fish side pot (both classes combined). Teams will buy their $10 launch voucher at our registration table when they register for the shoot.  \n\n\nPay back is determined by the number of paid shooters in class. 1-10 paid shooters pays 1st place only. 11-20 paid shooters pays 1st and 2nd place. 20 or more paid shooters pays 1st\, 2nd\, and 3rd place. Big 20: $30.00 per person\, no limit to number of members per boat. Payback is determined by number of paid shooters in the class. 1-10 paid shooters pays 1st place only. 11-20 paid shooters pays 1st and 2nd. 21-30 paid shooters pays 1st\, 2nd\, and 3rd. 31-40 paid shooters pays\, 1st\, 2nd\, 3rd\, and 4th. 41 or more paid shooters pays 1st\, 2nd\, 3rd\, 4th\, and 5th place. Big fish pot- winner takes all! \n\nHobby ClassDesigned for beginner tournament shooters (board approval/discretion)\nBig 10 Format$15 per shooter registration feeOptional $5 big fish side-potOptional $5 big dog side-potAll participants must be a paid member of BAM ($30 yearly registration fee)\n\nAll Bam rules apply and can be viewed on the website at bowfishbam.com This is a non-trailering tournament. All boundary waters are closed to bowfishing and spearing starting 8pm Friday. Scouting is allowed\, but no bows\, gaffs\, or spears in the boat after 8pm Friday. If you see someone out shooting make a mental note and take a picture\, if possible\, of the boat\, truck\, and trailer and let a board member or host know. \nA red zone map (for all tournaments) is shown here. \n \n\n\nThere will also be prizes for big fish species: big gar\, big dog\, and big drum/sheepshead that are included with entry fee. \n\n\nAll BAM rules apply and can be viewed on the website at Rules & Regulations – BAM Bowfishing (bowfishbam.com) \n\n\n
URL:https://www.bowfishbam.com/event/june14th_grandtraversebay/
LOCATION:Grand Traverse\, 5851 Voice Rd\, Kingsley\, MI\, 49649\, United States
CATEGORIES:CurrentSeason
ATTACH;FMTTYPE=image/jpeg:https://www.bowfishbam.com/wp-content/uploads/2025/06/490572553_1082641037236221_1332004321329921286_n.jpg
END:VEVENT
END:VCALENDAR