BEGIN:VCALENDAR
VERSION:2.0
PRODID:-//BAM Bowfishing - ECPv5.1.4//NONSGML v1.0//EN
CALSCALE:GREGORIAN
METHOD:PUBLISH
X-WR-CALNAME:BAM Bowfishing
X-ORIGINAL-URL:https://www.bowfishbam.com
X-WR-CALDESC:Events for BAM Bowfishing
BEGIN:VTIMEZONE
TZID:America/New_York
BEGIN:DAYLIGHT
TZOFFSETFROM:-0500
TZOFFSETTO:-0400
TZNAME:EDT
DTSTART:20240310T070000
END:DAYLIGHT
BEGIN:STANDARD
TZOFFSETFROM:-0400
TZOFFSETTO:-0500
TZNAME:EST
DTSTART:20241103T060000
END:STANDARD
END:VTIMEZONE
BEGIN:VEVENT
DTSTART;TZID=America/New_York:20240615T190000
DTEND;TZID=America/New_York:20240616T070000
DTSTAMP:20260421T194400
CREATED:20240402T124117Z
LAST-MODIFIED:20240402T142828Z
UID:1964-1718478000-1718521200@www.bowfishbam.com
SUMMARY:June 15th/16th - Thunder Bay State Championship
DESCRIPTION:Time: 7pm- 7am\, Registration begins on-site at 6pm \nLocation: *Fletcher Pond Boat Ramp \n118 John Arthur St\, Hillman\, MI 49746 \n*A MI Recreation Passport is required for all vehicles \n \nBoundaries: Fletchers pond and Lake Huron Bell Bay to Au Sable River in Oscoda. Red zone map for all other waters is shown here: \n \nHost: Morgan Woloszyk & Alex Ziegler \n\n\nCost: An annual BAM membership is also required for this event. $30 family membership includes a BAM slime rag and decal. Tournament cost is $30 per person for participants over the age of 16 per class. Participants must choose to shoot either Big 20 or Numbers\, not both.  Big 20 has an optional $5 Numbers side pot\, and Numbers has an additional $5 Big 10 side pot. The Big Fish pot is $5 per person\, and all team members must pay the big fish side pot to qualify. New for this year is a $5 Average Joe side pot\, which will be awarded to the team that places in the middle of the pack.\n\nBased on participation\, payouts will be up to top 5 for Big 20\, and up to top 3 for Numbers.\n\n\n\nAll Bam rules apply and can be viewed on the website at Rules & Regulations – BAM Bowfishing (bowfishbam.com)\n
URL:https://www.bowfishbam.com/event/june-15th-16th-thunder-bay-state-championship/
LOCATION:Fletcher Pond Boat Ramp\, 118 John Arthur St\,\, Hillman\, mi\, 49746\, United States
CATEGORIES:CurrentSeason
ATTACH;FMTTYPE=image/jpeg:https://www.bowfishbam.com/wp-content/uploads/2024/04/355159480_651499283683734_4528412700903383544_n.jpg
END:VEVENT
END:VCALENDAR