BEGIN:VCALENDAR
VERSION:2.0
PRODID:-//BAM Bowfishing - ECPv5.1.4//NONSGML v1.0//EN
CALSCALE:GREGORIAN
METHOD:PUBLISH
X-WR-CALNAME:BAM Bowfishing
X-ORIGINAL-URL:https://www.bowfishbam.com
X-WR-CALDESC:Events for BAM Bowfishing
BEGIN:VTIMEZONE
TZID:America/New_York
BEGIN:DAYLIGHT
TZOFFSETFROM:-0500
TZOFFSETTO:-0400
TZNAME:EDT
DTSTART:20220313T070000
END:DAYLIGHT
BEGIN:STANDARD
TZOFFSETFROM:-0400
TZOFFSETTO:-0500
TZNAME:EST
DTSTART:20221106T060000
END:STANDARD
END:VTIMEZONE
BEGIN:VEVENT
DTSTART;TZID=America/New_York:20220709T190000
DTEND;TZID=America/New_York:20220710T070000
DTSTAMP:20260421T205404
CREATED:20220314T203509Z
LAST-MODIFIED:20220512T170114Z
UID:1771-1657393200-1657436400@www.bowfishbam.com
SUMMARY:July 9th/10th - Lake Erie/Detroit Ri. State Championship
DESCRIPTION:Time: 7pm- 7am\, Registration begins on-site at 6pm \nLocation: Send-off and weigh-in at Pointe Mouillee State Game Area Headquarters. Recreation passports are required for all vehicles. \n37205 Mouillee Rd\, Brownstown Charter Twp\, MI 48173 \nBoundaries: American waters from the mouth of the Detroit River at Windmill Point to the Ohio Line. Shooting is permitted on any of the tributaries and bays from the shoreline of Lake Erie to Highway 75 and 1 mile inland on the Detroit River.  The game area is off-limits\, and a red zone map is shown here: \n \nHost: Tom Miller (517) 231-7631 and Arrow Out \n\nCost: An annual BAM membership is also required for this event.  $30 membership that includes a BAM hat or a $25 membership that does not include a hat. Tournament cost is $30 per person for participants over the age of 16 per class.  Participants have the option to shoot Big 20\, or Numbers\, or Both.  Additional $5 per person for the big fish pot.\n\nPayouts will be top 5 for Big 20\, and top 3 for Numbers and Big 30.  Big fish pot- winner takes all!\n\n\nAll Bam rules apply and can be viewed on the website at Rules & Regulations – BAM Bowfishing (bowfishbam.com)\n \n
URL:https://www.bowfishbam.com/event/july-9th-10th-lake-erie-detroit-ri-state-championship/
LOCATION:Lake Erie/Detroit Ri.\, 37205 Mouillee Rd\, Brownstown Charter Twp\, MI\, 48173\, United States
CATEGORIES:CurrentSeason
ATTACH;FMTTYPE=image/jpeg:https://www.bowfishbam.com/wp-content/uploads/2022/03/159233222_299063174892581_3087434627035343289_n.jpg
END:VEVENT
END:VCALENDAR