BEGIN:VCALENDAR
VERSION:2.0
PRODID:-//BAM Bowfishing - ECPv5.1.4//NONSGML v1.0//EN
CALSCALE:GREGORIAN
METHOD:PUBLISH
X-WR-CALNAME:BAM Bowfishing
X-ORIGINAL-URL:https://www.bowfishbam.com
X-WR-CALDESC:Events for BAM Bowfishing
BEGIN:VTIMEZONE
TZID:America/New_York
BEGIN:DAYLIGHT
TZOFFSETFROM:-0500
TZOFFSETTO:-0400
TZNAME:EDT
DTSTART:20230312T070000
END:DAYLIGHT
BEGIN:STANDARD
TZOFFSETFROM:-0400
TZOFFSETTO:-0500
TZNAME:EST
DTSTART:20231105T060000
END:STANDARD
END:VTIMEZONE
BEGIN:VEVENT
DTSTART;TZID=America/New_York:20230715T190000
DTEND;TZID=America/New_York:20230716T070000
DTSTAMP:20260421T194524
CREATED:20230403T122944Z
LAST-MODIFIED:20230706T141121Z
UID:1803-1689447600-1689490800@www.bowfishbam.com
SUMMARY:July 15th/16th - Lake Erie/Detroit Ri. State Championship
DESCRIPTION:Time: 7pm- 7am\, Registration begins on-site at 6pm \nLocation: Send-off and weigh-in at Pointe Mouillee State Game Area Headquarters. Recreation passports are required for all vehicles. \n37998 Pointe Mouille Rd\, Brownstown Charter Twp\, MI 48173 \nBoundaries: American waters from the mouth of the Detroit River at Windmill Point to the Ohio Line. Shooting is permitted on any of the tributaries and bays from the shoreline of Lake Erie to Highway 75 and 1 mile inland on the Detroit River. Public boat ramps only. The game area is off-limits\, and a red zone map is shown here: \n \nHost: Tom Miller (517) 231-7631 and Arrow Out \n\n\nCost: An annual BAM membership is also required for this event. $30 family membership includes a BAM slime rag and decal. Tournament cost is $30 per person for participants over the age of 16 per class. Participants must choose to shoot either Big 20 or Numbers\, not both.  Big 20 has an optional $5 Numbers side pot\, and Numbers has an additional $5 Big 10 side pot. The Big Fish pot is $5 per person\, and all teammembers must pay the big fish side pot to qualify. New for this year is a $5 Average Joe side pot\, which will be awarded to the team that places in the middle of the pack.\n\nBased on participation\, payouts will be up to top 5 for Big 20\, and up to top 3 for Numbers.\n\n\n\nAll Bam rules apply and can be viewed on the website at Rules & Regulations – BAM Bowfishing (bowfishbam.com)\n \n
URL:https://www.bowfishbam.com/event/july-15th-16th-lake-erie-detroit-ri-state-championship/
LOCATION:Lake Erie/Detroit Ri.\, 37205 Mouillee Rd\, Brownstown Charter Twp\, MI\, 48173\, United States
CATEGORIES:CurrentSeason
ATTACH;FMTTYPE=image/jpeg:https://www.bowfishbam.com/wp-content/uploads/2023/04/333229549_1240559546879289_2862362090629590139_n.jpg
END:VEVENT
END:VCALENDAR