BEGIN:VCALENDAR
VERSION:2.0
PRODID:-//BAM Bowfishing - ECPv5.1.4//NONSGML v1.0//EN
CALSCALE:GREGORIAN
METHOD:PUBLISH
X-WR-CALNAME:BAM Bowfishing
X-ORIGINAL-URL:https://www.bowfishbam.com
X-WR-CALDESC:Events for BAM Bowfishing
BEGIN:VTIMEZONE
TZID:America/New_York
BEGIN:DAYLIGHT
TZOFFSETFROM:-0500
TZOFFSETTO:-0400
TZNAME:EDT
DTSTART:20240310T070000
END:DAYLIGHT
BEGIN:STANDARD
TZOFFSETFROM:-0400
TZOFFSETTO:-0500
TZNAME:EST
DTSTART:20241103T060000
END:STANDARD
END:VTIMEZONE
BEGIN:VEVENT
DTSTART;TZID=America/New_York:20240420T190000
DTEND;TZID=America/New_York:20240421T070000
DTSTAMP:20260421T183527
CREATED:20240401T172530Z
LAST-MODIFIED:20240419T233309Z
UID:1936-1713639600-1713682800@www.bowfishbam.com
SUMMARY:April 20th/21st - West Side
DESCRIPTION:Time: 7pm- 7am\, Registration begins on-site at 6pm \nLocation: 3668 S-Drive S\, Athens\, MI 49011 \n \nBoundaries: All Michigan public waters west of highway 127 and 75. Be aware of local laws regarding designated trout waters since you’re at your own risk. Public boat ramps only. Red zone map for all other waters is shown here: \n \nHost: Morgan Woloszyk (989) 255-9472 & Alex Ziegler (269) 753-2295 \n\n\n\nCost: An annual $30 family BAM membership is also required for this event. Tournament cost is $30 per person for participants over the age of 16 per class. Participants must choose to shoot either Big 20 or Numbers\, not both.  Big 20 has an optional $5 Numbers side pot\, and Numbers has an additional $5 Big 10 side pot. The Big Fish pot is $5 per person\, and all team members must pay the big fish side pot to qualify. \nNew for this year is a hobby class. The hobby class is for BEGINNERS (BAM board discretion if necessary). Big 10\, $15 per person\, minimum of 2 people per team\, no maximum\, and must be BAM member. Hobby teams can still enter into Big Fish side pots. Payback is determined by number of paid shooters in the class. \n\nBased on participation\, payouts will be up to top 5 for Big 20\, and top 3 for Numbers.\n\n\nAll Bam rules apply and can be viewed on the website at Rules & Regulations – BAM Bowfishing (bowfishbam.com)\n\n
URL:https://www.bowfishbam.com/event/april-20th-21st-west-side/
CATEGORIES:CurrentSeason
ATTACH;FMTTYPE=image/jpeg:https://www.bowfishbam.com/wp-content/uploads/2024/04/342773496_563844109195375_2137645391008600990_n.jpg
END:VEVENT
END:VCALENDAR