BEGIN:VCALENDAR
VERSION:2.0
PRODID:-//BAM Bowfishing - ECPv5.1.4//NONSGML v1.0//EN
CALSCALE:GREGORIAN
METHOD:PUBLISH
X-WR-CALNAME:BAM Bowfishing
X-ORIGINAL-URL:https://www.bowfishbam.com
X-WR-CALDESC:Events for BAM Bowfishing
BEGIN:VTIMEZONE
TZID:America/New_York
BEGIN:DAYLIGHT
TZOFFSETFROM:-0500
TZOFFSETTO:-0400
TZNAME:EDT
DTSTART:20210314T070000
END:DAYLIGHT
BEGIN:STANDARD
TZOFFSETFROM:-0400
TZOFFSETTO:-0500
TZNAME:EST
DTSTART:20211107T060000
END:STANDARD
END:VTIMEZONE
BEGIN:VEVENT
DTSTART;TZID=America/New_York:20210410T190000
DTEND;TZID=America/New_York:20210411T070000
DTSTAMP:20260421T205745
CREATED:20210406T123033Z
LAST-MODIFIED:20210406T185435Z
UID:1640-1618081200-1618124400@www.bowfishbam.com
SUMMARY:April 10th/11th - West Big 30
DESCRIPTION:Send-off and weigh-in: the chicken barns off 8 1/2 mile road Ceresco\, MI 49033 \nBoundaries: all public Michigan waters west of highway 127 and 75\nHost: Alex Ziegler (269)753-2295\nCost: $30 per person for participants over the age of 16 $5 of that $30 will automatically go toward the big fish pot. There will be a optional $5 per person numbers side pot at this event as well. A annual $30 BAM membership is also required for this event.\nPayout will be 1st\, 2nd\, and 3rd based off our open class payout system.\n\nAll Bam rules apply and can be viewed on the website at bowfishbam.com\n1. All boats must be present at both registration and weigh-in. No exceptions. Being late to weigh in will result in losing 1 fish per minute starting with the biggest fish\n2. The entire west side of the state will be closed to Bowfishing starting 7pm Friday. Scouting is allowed\, but no bows\, gaffs\, or spears in the boat after 7pm Friday. If you see someone out shooting make a mental note and take a picture if possible of the boat\, truck\, and trailer and let a board member or host know.\n3. Boundaries are pretty self explanatory basically a straight line through the middle of the state 127 turns into 75 north of Higgins lake and south of Grayling (Higgins is out of bounds) and 127 zig zags a little south of Jackson so know where you are at.\n4. You must launch at a public or public pay launch. No private launches can be used even if it’s attached to public water. If you have multiple vehicles they must all be at the same launch. There will be no parking a chase vehicle somewhere else.\n5. Must have your big 30 sorted\, and ready for weigh in before you get to the scales. No sorting allowed at the scales.\n6. There will also be prizes for big dog and big gar. We may have a mystery fish as well that will be determined at registration.\n7. There is no limit to the number of shooters on the boat but there is a minimum of 2 people for safety reasons.\nI highly encourage anyone who hasn’t read the rules\, or if it’s been awhile since you have looked at them to go onto the website and look them over before Friday.\nThis is a single class event\, but points for the open class team of the year will be awarded at this event.\n\n\n \n
URL:https://www.bowfishbam.com/event/april-10th-11th-west-big-30-7pm-7am/
LOCATION:West Big 30\, 7922 8 1/2 Mile Rd\, Ceresco\, MI\, 49033\, United States
CATEGORIES:CurrentSeason
ATTACH;FMTTYPE=image/jpeg:https://www.bowfishbam.com/wp-content/uploads/2020/07/2017-youth-shoot_085-scaled.jpg
END:VEVENT
END:VCALENDAR